BEGIN:VCALENDAR
VERSION:2.0
PRODID:-//wp-events-plugin.com//7.2.2.3//EN
BEGIN:VEVENT
UID:9372@alte-werkstatt.org
DTSTART;TZID=Europe/Vienna:20240930T180000
DTEND;TZID=Europe/Vienna:20240930T185500
DTSTAMP:20240721T082514Z
URL:https://www.alte-werkstatt.org/veranstaltungen/yin-yoga-breathing-2024
 -09-30/
SUMMARY:Yin Yoga & Breathing
DESCRIPTION:18:00 - 18:55
CATEGORIES:Diverse
END:VEVENT
BEGIN:VTIMEZONE
TZID:Europe/Vienna
X-LIC-LOCATION:Europe/Vienna
BEGIN:DAYLIGHT
DTSTART:20240331T030000
TZOFFSETFROM:+0100
TZOFFSETTO:+0200
TZNAME:CEST
END:DAYLIGHT
END:VTIMEZONE
END:VCALENDAR