BEGIN:VCALENDAR
VERSION:2.0
PRODID:-//wp-events-plugin.com//7.2.2.3//EN
BEGIN:VEVENT
UID:7167@alte-werkstatt.org
DTSTART;TZID=Europe/Vienna:20221222T083000
DTEND;TZID=Europe/Vienna:20221222T093000
DTSTAMP:20220907T131857Z
URL:https://www.alte-werkstatt.org/veranstaltungen/tanz-workout-41-2022-12
 -22/
SUMMARY:Tanz Workout
DESCRIPTION:08:30 - 09:30\nprivate Veranstaltung
CATEGORIES:Diverse
END:VEVENT
BEGIN:VTIMEZONE
TZID:Europe/Vienna
X-LIC-LOCATION:Europe/Vienna
BEGIN:STANDARD
DTSTART:20221030T020000
TZOFFSETFROM:+0200
TZOFFSETTO:+0100
TZNAME:CET
END:STANDARD
END:VTIMEZONE
END:VCALENDAR