BEGIN:VCALENDAR
VERSION:2.0
PRODID:-//wp-events-plugin.com//7.2.2.3//EN
BEGIN:VEVENT
UID:7152@alte-werkstatt.org
DTSTART;TZID=Europe/Vienna:20220908T083000
DTEND;TZID=Europe/Vienna:20220908T093000
DTSTAMP:20220907T131857Z
URL:https://www.alte-werkstatt.org/veranstaltungen/tanz-workout-41-2022-09
 -08/
SUMMARY:Tanz Workout
DESCRIPTION:08:30 - 09:30\nprivate Veranstaltung
CATEGORIES:Diverse
END:VEVENT
BEGIN:VTIMEZONE
TZID:Europe/Vienna
X-LIC-LOCATION:Europe/Vienna
BEGIN:DAYLIGHT
DTSTART:20220327T030000
TZOFFSETFROM:+0100
TZOFFSETTO:+0200
TZNAME:CEST
END:DAYLIGHT
END:VTIMEZONE
END:VCALENDAR