BEGIN:VCALENDAR
VERSION:2.0
PRODID:-//wp-events-plugin.com//7.2.2.3//EN
BEGIN:VEVENT
UID:9730@alte-werkstatt.org
DTSTART;TZID=Europe/Vienna:20250114T110000
DTEND;TZID=Europe/Vienna:20250114T121500
DTSTAMP:20241219T170517Z
URL:https://www.alte-werkstatt.org/veranstaltungen/spielraum-b-26-2025-01-
 14/
SUMMARY:SpielRaum B
DESCRIPTION:11:00 - 12:15\nGruppe b\, "Älteren"
CATEGORIES:Pöhl Evelyn Saphira
END:VEVENT
BEGIN:VTIMEZONE
TZID:Europe/Vienna
X-LIC-LOCATION:Europe/Vienna
BEGIN:STANDARD
DTSTART:20241027T020000
TZOFFSETFROM:+0200
TZOFFSETTO:+0100
TZNAME:CET
END:STANDARD
END:VTIMEZONE
END:VCALENDAR