BEGIN:VCALENDAR
VERSION:2.0
PRODID:-//wp-events-plugin.com//7.2.2.3//EN
BEGIN:VEVENT
UID:10969@alte-werkstatt.org
DTSTART:20260518T053000Z
DTEND:20260518T063000Z
DTSTAMP:20251203T104751Z
URL:https://www.alte-werkstatt.org/veranstaltungen/qi-gong-kurs-fruehling-
 2026-04-13-2026-04-20-2026-04-27-2026-05-04-2026-05-11-2026-05-18/
SUMMARY:Qi Gong Kurs - Frühling
DESCRIPTION:07:30 - 08:30
CATEGORIES:Lavigne Geneviève
END:VEVENT
END:VCALENDAR