BEGIN:VCALENDAR
VERSION:2.0
PRODID:-//wp-events-plugin.com//7.2.2.3//EN
BEGIN:VEVENT
UID:6679@alte-werkstatt.org
DTSTART;TZID=Europe/Vienna:20220617T130000
DTEND;TZID=Europe/Vienna:20220619T150000
DTSTAMP:20220211T093448Z
URL:https://www.alte-werkstatt.org/veranstaltungen/psychotherapie-ausbildu
 ng-2/
SUMMARY:Psychotherapie Ausbildung
DESCRIPTION:Fr 13:00 - So 15:00
CATEGORIES:Diverse
END:VEVENT
BEGIN:VTIMEZONE
TZID:Europe/Vienna
X-LIC-LOCATION:Europe/Vienna
BEGIN:DAYLIGHT
DTSTART:20220327T030000
TZOFFSETFROM:+0100
TZOFFSETTO:+0200
TZNAME:CEST
END:DAYLIGHT
END:VTIMEZONE
END:VCALENDAR