BEGIN:VCALENDAR
VERSION:2.0
PRODID:-//wp-events-plugin.com//7.2.2.3//EN
BEGIN:VEVENT
UID:7175@alte-werkstatt.org
DTSTART;TZID=Europe/Vienna:20221020T150000
DTEND;TZID=Europe/Vienna:20221020T160000
DTSTAMP:20220907T153933Z
URL:https://www.alte-werkstatt.org/veranstaltungen/kung-fu-1-10-bis-14-jah
 re-8-2022-10-20/
SUMMARY:Kung Fu 1 (10 bis 14 Jahre)
DESCRIPTION:15:00 - 16:00\nDie Kampfkunst der Shaolin Mönche\, unterrichte
 t für Kinder im Alter von 10 - 14 Jahren.
CATEGORIES:Pfaffenberger Marc
END:VEVENT
BEGIN:VTIMEZONE
TZID:Europe/Vienna
X-LIC-LOCATION:Europe/Vienna
BEGIN:DAYLIGHT
DTSTART:20220327T030000
TZOFFSETFROM:+0100
TZOFFSETTO:+0200
TZNAME:CEST
END:DAYLIGHT
END:VTIMEZONE
END:VCALENDAR