BEGIN:VCALENDAR
VERSION:2.0
PRODID:-//wp-events-plugin.com//7.2.2.3//EN
BEGIN:VEVENT
UID:7185@alte-werkstatt.org
DTSTART;TZID=Europe/Vienna:20230126T150000
DTEND;TZID=Europe/Vienna:20230126T160000
DTSTAMP:20220907T163314Z
URL:https://www.alte-werkstatt.org/veranstaltungen/kung-fu-1-10-bis-14-jah
 re-10-2023-01-26/
SUMMARY:Kung Fu 1 (10 bis 14 Jahre)
DESCRIPTION:15:00 - 16:00\nDie Kampfkunst der Shaolin Mönche\, unterrichte
 t für Kinder im Alter von 10 - 14 Jahren.
CATEGORIES:Pfaffenberger Marc
END:VEVENT
BEGIN:VTIMEZONE
TZID:Europe/Vienna
X-LIC-LOCATION:Europe/Vienna
BEGIN:STANDARD
DTSTART:20221030T020000
TZOFFSETFROM:+0200
TZOFFSETTO:+0100
TZNAME:CET
END:STANDARD
END:VTIMEZONE
END:VCALENDAR