BEGIN:VCALENDAR
VERSION:2.0
PRODID:-//wp-events-plugin.com//7.2.2.3//EN
BEGIN:VEVENT
UID:7223@alte-werkstatt.org
DTSTART;TZID=Europe/Vienna:20221110T180000
DTEND;TZID=Europe/Vienna:20221110T190000
DTSTAMP:20220912T102132Z
URL:https://www.alte-werkstatt.org/veranstaltungen/entspannt-und-aufrecht-
 5-2022-11-10/
SUMMARY:Entspannt und Aufrecht
DESCRIPTION:18:00 - 19:00 \nImpulse für Haltung und Gesundheit
CATEGORIES:Schindler Ulrike
END:VEVENT
BEGIN:VTIMEZONE
TZID:Europe/Vienna
X-LIC-LOCATION:Europe/Vienna
BEGIN:STANDARD
DTSTART:20221030T020000
TZOFFSETFROM:+0200
TZOFFSETTO:+0100
TZNAME:CET
END:STANDARD
END:VTIMEZONE
END:VCALENDAR