BEGIN:VCALENDAR
VERSION:2.0
PRODID:-//wp-events-plugin.com//7.2.2.3//EN
BEGIN:VEVENT
UID:7216@alte-werkstatt.org
DTSTART;TZID=Europe/Vienna:20220922T180000
DTEND;TZID=Europe/Vienna:20220922T190000
DTSTAMP:20220912T102132Z
URL:https://www.alte-werkstatt.org/veranstaltungen/entspannt-und-aufrecht-
 5-2022-09-22/
SUMMARY:Entspannt und Aufrecht
DESCRIPTION:18:00 - 19:00 \nImpulse für Haltung und Gesundheit
CATEGORIES:Schindler Ulrike
END:VEVENT
BEGIN:VTIMEZONE
TZID:Europe/Vienna
X-LIC-LOCATION:Europe/Vienna
BEGIN:DAYLIGHT
DTSTART:20220327T030000
TZOFFSETFROM:+0100
TZOFFSETTO:+0200
TZNAME:CEST
END:DAYLIGHT
END:VTIMEZONE
END:VCALENDAR