BEGIN:VCALENDAR
VERSION:2.0
PRODID:-//wp-events-plugin.com//7.2.2.3//EN
BEGIN:VEVENT
UID:7311@alte-werkstatt.org
DTSTART;TZID=Europe/Vienna:20221207T100000
DTEND;TZID=Europe/Vienna:20221207T110000
DTSTAMP:20221109T100325Z
URL:https://www.alte-werkstatt.org/veranstaltungen/entspannt-und-aufrecht-
 4-2022-12-07/
SUMMARY:Entspannt und Aufrecht
DESCRIPTION:10:00 - 11:00 \nImpulse für Haltung und Gesundheit
CATEGORIES:Schindler Ulrike
END:VEVENT
BEGIN:VTIMEZONE
TZID:Europe/Vienna
X-LIC-LOCATION:Europe/Vienna
BEGIN:STANDARD
DTSTART:20221030T020000
TZOFFSETFROM:+0200
TZOFFSETTO:+0100
TZNAME:CET
END:STANDARD
END:VTIMEZONE
END:VCALENDAR