BEGIN:VCALENDAR
VERSION:2.0
PRODID:-//wp-events-plugin.com//7.2.2.3//EN
BEGIN:VEVENT
UID:8292@alte-werkstatt.org
DTSTART;TZID=Europe/Vienna:20231213T190000
DTEND;TZID=Europe/Vienna:20231213T204500
DTSTAMP:20230712T095202Z
URL:http://www.alte-werkstatt.org/veranstaltungen/yoga-verwurzelt-in-der-q
 uelle-6/
SUMMARY:Yoga - verwurzelt in der Quelle
DESCRIPTION:19:00 - 20:45
CATEGORIES:Holzer Andrea
END:VEVENT
BEGIN:VTIMEZONE
TZID:Europe/Vienna
X-LIC-LOCATION:Europe/Vienna
BEGIN:STANDARD
DTSTART:20231029T020000
TZOFFSETFROM:+0200
TZOFFSETTO:+0100
TZNAME:CET
END:STANDARD
END:VTIMEZONE
END:VCALENDAR