BEGIN:VCALENDAR
VERSION:2.0
PRODID:-//wp-events-plugin.com//7.2.2.3//EN
BEGIN:VEVENT
UID:1515@alte-werkstatt.org
DTSTART;TZID=Europe/Vienna:20161119T100000
DTEND;TZID=Europe/Vienna:20161119T180000
DTSTAMP:20160920T124728Z
URL:http://www.alte-werkstatt.org/veranstaltungen/yoga-sing-tag/
SUMMARY:Yoga-Sing-Tag
DESCRIPTION:10:00 - 18:00\nEinen Tag lang Stimme und Körper weiten\, neue 
 Räume und Klänge entdecken.
CATEGORIES:Diverse
END:VEVENT
BEGIN:VTIMEZONE
TZID:Europe/Vienna
X-LIC-LOCATION:Europe/Vienna
BEGIN:STANDARD
DTSTART:20161030T020000
TZOFFSETFROM:+0200
TZOFFSETTO:+0100
TZNAME:CET
END:STANDARD
END:VTIMEZONE
END:VCALENDAR