BEGIN:VCALENDAR
VERSION:2.0
PRODID:-//wp-events-plugin.com//7.2.2.3//EN
BEGIN:VEVENT
UID:1755@alte-werkstatt.org
DTSTART;TZID=Europe/Vienna:20161216T173000
DTEND;TZID=Europe/Vienna:20161216T190000
DTSTAMP:20160813T101608Z
URL:http://www.alte-werkstatt.org/veranstaltungen/yoga-kurs-3-2016-12-16/
SUMMARY:YOGA Kurs
DESCRIPTION:17:30 - 19:00\nDie Leichtigkeit des Seins erleben und sich selb
 st spüren.
CATEGORIES:Stefan &amp; Denise
END:VEVENT
BEGIN:VTIMEZONE
TZID:Europe/Vienna
X-LIC-LOCATION:Europe/Vienna
BEGIN:STANDARD
DTSTART:20161030T020000
TZOFFSETFROM:+0200
TZOFFSETTO:+0100
TZNAME:CET
END:STANDARD
END:VTIMEZONE
END:VCALENDAR