BEGIN:VCALENDAR
VERSION:2.0
PRODID:-//wp-events-plugin.com//7.2.2.3//EN
BEGIN:VEVENT
UID:1743@alte-werkstatt.org
DTSTART;TZID=Europe/Vienna:20160923T173000
DTEND;TZID=Europe/Vienna:20160923T190000
DTSTAMP:20160813T101608Z
URL:http://www.alte-werkstatt.org/veranstaltungen/yoga-kurs-3-2016-09-23/
SUMMARY:YOGA Kurs
DESCRIPTION:17:30 - 19:00\nDie Leichtigkeit des Seins erleben und sich selb
 st spüren.
CATEGORIES:Stefan &amp; Denise
END:VEVENT
BEGIN:VTIMEZONE
TZID:Europe/Vienna
X-LIC-LOCATION:Europe/Vienna
BEGIN:DAYLIGHT
DTSTART:20160327T030000
TZOFFSETFROM:+0100
TZOFFSETTO:+0200
TZNAME:CEST
END:DAYLIGHT
END:VTIMEZONE
END:VCALENDAR