BEGIN:VCALENDAR
VERSION:2.0
PRODID:-//wp-events-plugin.com//7.2.2.3//EN
BEGIN:VEVENT
UID:1296@alte-werkstatt.org
DTSTART;TZID=Europe/Vienna:20160520T173000
DTEND;TZID=Europe/Vienna:20160520T190000
DTSTAMP:20160304T184057Z
URL:http://www.alte-werkstatt.org/veranstaltungen/yoga-kurs-2-2016-05-20/
SUMMARY:YOGA Kurs
DESCRIPTION:17:30 - 19:00\nDie Leichtigkeit des Seins erleben und sich selb
 st spüren. Den Moment erkennen\, lächeln und im Hier und Jetzt aufgehen.
  
CATEGORIES:Stefan &amp; Denise
END:VEVENT
BEGIN:VTIMEZONE
TZID:Europe/Vienna
X-LIC-LOCATION:Europe/Vienna
BEGIN:DAYLIGHT
DTSTART:20160327T030000
TZOFFSETFROM:+0100
TZOFFSETTO:+0200
TZNAME:CEST
END:DAYLIGHT
END:VTIMEZONE
END:VCALENDAR