BEGIN:VCALENDAR
VERSION:2.0
PRODID:-//wp-events-plugin.com//7.2.2.3//EN
BEGIN:VEVENT
UID:1561@alte-werkstatt.org
DTSTART;TZID=Europe/Vienna:20170123T183000
DTEND;TZID=Europe/Vienna:20170123T200000
DTSTAMP:20160728T102352Z
URL:http://www.alte-werkstatt.org/veranstaltungen/yoga-fuer-fortgeschritte
 ne-4-2017-01-23/
SUMMARY:Yoga für Fortgeschrittene
DESCRIPTION:18:30 - 20:00\nWir üben nach der klassischen Rishikesh Reihe n
 ach Swami Sivananda mit Variationen und Elementen aus dem Yin Yoga.
CATEGORIES:Follner Adelheid
END:VEVENT
BEGIN:VTIMEZONE
TZID:Europe/Vienna
X-LIC-LOCATION:Europe/Vienna
BEGIN:STANDARD
DTSTART:20161030T020000
TZOFFSETFROM:+0200
TZOFFSETTO:+0100
TZNAME:CET
END:STANDARD
END:VTIMEZONE
END:VCALENDAR