BEGIN:VCALENDAR
VERSION:2.0
PRODID:-//wp-events-plugin.com//7.2.2.3//EN
BEGIN:VEVENT
UID:7247@alte-werkstatt.org
DTSTART;TZID=Europe/Vienna:20230109T183000
DTEND;TZID=Europe/Vienna:20230109T200000
DTSTAMP:20221007T075844Z
URL:http://www.alte-werkstatt.org/veranstaltungen/yoga-fuer-fortgeschritte
 ne-23-2023-01-09/
SUMMARY:Yoga für Fortgeschrittene
DESCRIPTION:18:30 - 20:00
CATEGORIES:Follner Adelheid
END:VEVENT
BEGIN:VTIMEZONE
TZID:Europe/Vienna
X-LIC-LOCATION:Europe/Vienna
BEGIN:STANDARD
DTSTART:20221030T020000
TZOFFSETFROM:+0200
TZOFFSETTO:+0100
TZNAME:CET
END:STANDARD
END:VTIMEZONE
END:VCALENDAR