BEGIN:VCALENDAR
VERSION:2.0
PRODID:-//wp-events-plugin.com//7.2.2.3//EN
BEGIN:VEVENT
UID:7049@alte-werkstatt.org
DTSTART;TZID=Europe/Vienna:20220926T183000
DTEND;TZID=Europe/Vienna:20220926T200000
DTSTAMP:20221007T080049Z
URL:http://www.alte-werkstatt.org/veranstaltungen/yoga-fuer-fortgeschritte
 ne-22-2022-09-26/
SUMMARY:Yoga für Fortgeschrittene
DESCRIPTION:18:30 - 20:00
CATEGORIES:Follner Adelheid
END:VEVENT
BEGIN:VTIMEZONE
TZID:Europe/Vienna
X-LIC-LOCATION:Europe/Vienna
BEGIN:DAYLIGHT
DTSTART:20220327T030000
TZOFFSETFROM:+0100
TZOFFSETTO:+0200
TZNAME:CEST
END:DAYLIGHT
END:VTIMEZONE
END:VCALENDAR