BEGIN:VCALENDAR
VERSION:2.0
PRODID:-//wp-events-plugin.com//7.2.2.3//EN
BEGIN:VEVENT
UID:7030@alte-werkstatt.org
DTSTART;TZID=Europe/Vienna:20221201T100000
DTEND;TZID=Europe/Vienna:20221201T110000
DTSTAMP:20220726T154223Z
URL:http://www.alte-werkstatt.org/veranstaltungen/yoga-fuer-den-ruecken-7-
 2022-12-01/
SUMMARY:Yoga für den Rücken
DESCRIPTION:10:00 - 11:00
CATEGORIES:Vali (Kleindienst) Marie Anne
END:VEVENT
BEGIN:VTIMEZONE
TZID:Europe/Vienna
X-LIC-LOCATION:Europe/Vienna
BEGIN:STANDARD
DTSTART:20221030T020000
TZOFFSETFROM:+0200
TZOFFSETTO:+0100
TZNAME:CET
END:STANDARD
END:VTIMEZONE
END:VCALENDAR