BEGIN:VCALENDAR
VERSION:2.0
PRODID:-//wp-events-plugin.com//7.2.2.3//EN
BEGIN:VEVENT
UID:8503@alte-werkstatt.org
DTSTART;TZID=Europe/Vienna:20240108T160000
DTEND;TZID=Europe/Vienna:20240108T173000
DTSTAMP:20231106T162434Z
URL:http://www.alte-werkstatt.org/veranstaltungen/yoga-fuer-das-herz-27-20
 24-01-08/
SUMMARY:Yoga für das Herz
DESCRIPTION:16:00 - 17:30\nCardiac Yoga
CATEGORIES:Follner Adelheid
END:VEVENT
BEGIN:VTIMEZONE
TZID:Europe/Vienna
X-LIC-LOCATION:Europe/Vienna
BEGIN:STANDARD
DTSTART:20231029T020000
TZOFFSETFROM:+0200
TZOFFSETTO:+0100
TZNAME:CET
END:STANDARD
END:VTIMEZONE
END:VCALENDAR