BEGIN:VCALENDAR
VERSION:2.0
PRODID:-//wp-events-plugin.com//7.2.2.3//EN
BEGIN:VEVENT
UID:8253@alte-werkstatt.org
DTSTART;TZID=Europe/Vienna:20231002T160000
DTEND;TZID=Europe/Vienna:20231002T173000
DTSTAMP:20231106T162450Z
URL:http://www.alte-werkstatt.org/veranstaltungen/yoga-fuer-das-herz-26-20
 23-10-02/
SUMMARY:Yoga für das Herz
DESCRIPTION:16:00 - 17:30\nCardiac Yoga
CATEGORIES:Follner Adelheid
END:VEVENT
BEGIN:VTIMEZONE
TZID:Europe/Vienna
X-LIC-LOCATION:Europe/Vienna
BEGIN:DAYLIGHT
DTSTART:20230326T030000
TZOFFSETFROM:+0100
TZOFFSETTO:+0200
TZNAME:CEST
END:DAYLIGHT
END:VTIMEZONE
END:VCALENDAR