BEGIN:VCALENDAR
VERSION:2.0
PRODID:-//wp-events-plugin.com//7.2.2.3//EN
BEGIN:VEVENT
UID:7246@alte-werkstatt.org
DTSTART;TZID=Europe/Vienna:20230123T163000
DTEND;TZID=Europe/Vienna:20230123T180000
DTSTAMP:20221007T075920Z
URL:http://www.alte-werkstatt.org/veranstaltungen/yoga-fuer-das-herz-22-20
 23-01-23/
SUMMARY:Yoga für das Herz
DESCRIPTION:16:30 - 18:00\nCardiac Yoga
CATEGORIES:Follner Adelheid
END:VEVENT
BEGIN:VTIMEZONE
TZID:Europe/Vienna
X-LIC-LOCATION:Europe/Vienna
BEGIN:STANDARD
DTSTART:20221030T020000
TZOFFSETFROM:+0200
TZOFFSETTO:+0100
TZNAME:CET
END:STANDARD
END:VTIMEZONE
END:VCALENDAR