BEGIN:VCALENDAR
VERSION:2.0
PRODID:-//wp-events-plugin.com//7.2.2.3//EN
BEGIN:VEVENT
UID:2823@alte-werkstatt.org
DTSTART;TZID=Europe/Vienna:20171221T190000
DTEND;TZID=Europe/Vienna:20171221T201500
DTSTAMP:20170906T100809Z
URL:http://www.alte-werkstatt.org/veranstaltungen/yoga-2017-12-21/
SUMMARY:Feel Great Yoga
DESCRIPTION:19:00 - 20:15
CATEGORIES:Gasperi Susanne
END:VEVENT
BEGIN:VTIMEZONE
TZID:Europe/Vienna
X-LIC-LOCATION:Europe/Vienna
BEGIN:STANDARD
DTSTART:20171029T020000
TZOFFSETFROM:+0200
TZOFFSETTO:+0100
TZNAME:CET
END:STANDARD
END:VTIMEZONE
END:VCALENDAR