BEGIN:VCALENDAR
VERSION:2.0
PRODID:-//wp-events-plugin.com//7.2.2.3//EN
BEGIN:VEVENT
UID:2812@alte-werkstatt.org
DTSTART;TZID=Europe/Vienna:20171005T190000
DTEND;TZID=Europe/Vienna:20171005T201500
DTSTAMP:20170906T100809Z
URL:http://www.alte-werkstatt.org/veranstaltungen/yoga-2017-10-05/
SUMMARY:Feel Great Yoga
DESCRIPTION:19:00 - 20:15
CATEGORIES:Gasperi Susanne
END:VEVENT
BEGIN:VTIMEZONE
TZID:Europe/Vienna
X-LIC-LOCATION:Europe/Vienna
BEGIN:DAYLIGHT
DTSTART:20170326T030000
TZOFFSETFROM:+0100
TZOFFSETTO:+0200
TZNAME:CEST
END:DAYLIGHT
END:VTIMEZONE
END:VCALENDAR