BEGIN:VCALENDAR
VERSION:2.0
PRODID:-//wp-events-plugin.com//7.2.2.3//EN
BEGIN:VEVENT
UID:8589@alte-werkstatt.org
DTSTART;TZID=Europe/Vienna:20240213T190000
DTEND;TZID=Europe/Vienna:20240213T203000
DTSTAMP:20231211T133544Z
URL:http://www.alte-werkstatt.org/veranstaltungen/yoga-13-2024-02-13/
SUMMARY:Yoga
DESCRIPTION:19:00 - 20:30
CATEGORIES:Vali (Kleindienst) Marie Anne
END:VEVENT
BEGIN:VTIMEZONE
TZID:Europe/Vienna
X-LIC-LOCATION:Europe/Vienna
BEGIN:STANDARD
DTSTART:20231029T020000
TZOFFSETFROM:+0200
TZOFFSETTO:+0100
TZNAME:CET
END:STANDARD
END:VTIMEZONE
END:VCALENDAR