BEGIN:VCALENDAR
VERSION:2.0
PRODID:-//wp-events-plugin.com//7.2.2.3//EN
BEGIN:VEVENT
UID:7072@alte-werkstatt.org
DTSTART;TZID=Europe/Vienna;VALUE=DATE:20221015
DTEND;TZID=Europe/Vienna;VALUE=DATE:20221017
DTSTAMP:20220912T164129Z
URL:http://www.alte-werkstatt.org/veranstaltungen/workshop/
SUMMARY:the speed of being & my earth
DESCRIPTION:2 days contact improvisation
CATEGORIES:Diverse
END:VEVENT
BEGIN:VTIMEZONE
TZID:Europe/Vienna
X-LIC-LOCATION:Europe/Vienna
BEGIN:DAYLIGHT
DTSTART:20220327T030000
TZOFFSETFROM:+0100
TZOFFSETTO:+0200
TZNAME:CEST
END:DAYLIGHT
END:VTIMEZONE
END:VCALENDAR