BEGIN:VCALENDAR
VERSION:2.0
PRODID:-//wp-events-plugin.com//7.2.2.3//EN
BEGIN:VEVENT
UID:7068@alte-werkstatt.org
DTSTART;TZID=Europe/Vienna:20221117T193000
DTEND;TZID=Europe/Vienna:20221117T210000
DTSTAMP:20220806T123502Z
URL:http://www.alte-werkstatt.org/veranstaltungen/workshop-herzensbildung-
 3-2022-11-17/
SUMMARY:Workshop Herzensbildung
DESCRIPTION:19:30 - 21:00
CATEGORIES:Diverse
END:VEVENT
BEGIN:VTIMEZONE
TZID:Europe/Vienna
X-LIC-LOCATION:Europe/Vienna
BEGIN:STANDARD
DTSTART:20221030T020000
TZOFFSETFROM:+0200
TZOFFSETTO:+0100
TZNAME:CET
END:STANDARD
END:VTIMEZONE
END:VCALENDAR