BEGIN:VCALENDAR
VERSION:2.0
PRODID:-//wp-events-plugin.com//7.2.2.3//EN
BEGIN:VEVENT
UID:8295@alte-werkstatt.org
DTSTART;TZID=Europe/Vienna:20230722T100000
DTEND;TZID=Europe/Vienna:20230722T120000
DTSTAMP:20230720T053917Z
URL:http://www.alte-werkstatt.org/veranstaltungen/tiefenoekologielehrgang/
SUMMARY:Tiefenökologielehrgang
DESCRIPTION:10:00 - 12:00
CATEGORIES:Auinger Andreas
END:VEVENT
BEGIN:VTIMEZONE
TZID:Europe/Vienna
X-LIC-LOCATION:Europe/Vienna
BEGIN:DAYLIGHT
DTSTART:20230326T030000
TZOFFSETFROM:+0100
TZOFFSETTO:+0200
TZNAME:CEST
END:DAYLIGHT
END:VTIMEZONE
END:VCALENDAR