BEGIN:VCALENDAR
VERSION:2.0
PRODID:-//wp-events-plugin.com//7.2.2.3//EN
BEGIN:VEVENT
UID:8167@alte-werkstatt.org
DTSTART;TZID=Europe/Vienna:20230629T120000
DTEND;TZID=Europe/Vienna:20230629T140000
DTSTAMP:20230531T083400Z
URL:http://www.alte-werkstatt.org/veranstaltungen/tanztraining-8/
SUMMARY:Tanztraining
DESCRIPTION:12:00 - 14:00
CATEGORIES:Humitsch Leonie
END:VEVENT
BEGIN:VTIMEZONE
TZID:Europe/Vienna
X-LIC-LOCATION:Europe/Vienna
BEGIN:DAYLIGHT
DTSTART:20230326T030000
TZOFFSETFROM:+0100
TZOFFSETTO:+0200
TZNAME:CEST
END:DAYLIGHT
END:VTIMEZONE
END:VCALENDAR