BEGIN:VCALENDAR
VERSION:2.0
PRODID:-//wp-events-plugin.com//7.2.2.3//EN
BEGIN:VEVENT
UID:8605@alte-werkstatt.org
DTSTART;TZID=Europe/Vienna:20240216T110000
DTEND;TZID=Europe/Vienna:20240216T130000
DTSTAMP:20231221T095739Z
URL:http://www.alte-werkstatt.org/veranstaltungen/tanztraining-15/
SUMMARY:Tanztraining
DESCRIPTION:11:00 - 13:00
CATEGORIES:Humitsch Leonie
END:VEVENT
BEGIN:VTIMEZONE
TZID:Europe/Vienna
X-LIC-LOCATION:Europe/Vienna
BEGIN:STANDARD
DTSTART:20231029T020000
TZOFFSETFROM:+0200
TZOFFSETTO:+0100
TZNAME:CET
END:STANDARD
END:VTIMEZONE
END:VCALENDAR