BEGIN:VCALENDAR
VERSION:2.0
PRODID:-//wp-events-plugin.com//7.2.2.3//EN
BEGIN:VEVENT
UID:8601@alte-werkstatt.org
DTSTART;TZID=Europe/Vienna:20240304T130000
DTEND;TZID=Europe/Vienna:20240304T150000
DTSTAMP:20240108T203122Z
URL:http://www.alte-werkstatt.org/veranstaltungen/tanztraining-11/
SUMMARY:Tanztraining
DESCRIPTION:13:00 - 15:00
CATEGORIES:Humitsch Leonie
END:VEVENT
BEGIN:VTIMEZONE
TZID:Europe/Vienna
X-LIC-LOCATION:Europe/Vienna
BEGIN:STANDARD
DTSTART:20231029T020000
TZOFFSETFROM:+0200
TZOFFSETTO:+0100
TZNAME:CET
END:STANDARD
END:VTIMEZONE
END:VCALENDAR