BEGIN:VCALENDAR
VERSION:2.0
PRODID:-//wp-events-plugin.com//7.2.2.3//EN
BEGIN:VEVENT
UID:8297@alte-werkstatt.org
DTSTART;TZID=Europe/Vienna:20230719T143000
DTEND;TZID=Europe/Vienna:20230719T163000
DTSTAMP:20230728T101653Z
URL:http://www.alte-werkstatt.org/veranstaltungen/tanztraining-10/
SUMMARY:Tanztraining
DESCRIPTION:14:30 - 16:30
CATEGORIES:Humitsch Leonie
END:VEVENT
BEGIN:VTIMEZONE
TZID:Europe/Vienna
X-LIC-LOCATION:Europe/Vienna
BEGIN:DAYLIGHT
DTSTART:20230326T030000
TZOFFSETFROM:+0100
TZOFFSETTO:+0200
TZNAME:CEST
END:DAYLIGHT
END:VTIMEZONE
END:VCALENDAR