BEGIN:VCALENDAR
VERSION:2.0
PRODID:-//wp-events-plugin.com//7.2.2.3//EN
BEGIN:VEVENT
UID:8166@alte-werkstatt.org
DTSTART;TZID=Europe/Vienna:20240109T170000
DTEND;TZID=Europe/Vienna:20240109T180000
DTSTAMP:20231127T082104Z
URL:http://www.alte-werkstatt.org/veranstaltungen/tanzart-teens-11-16-jahr
 e-3-2023-12-19/
SUMMARY:TanzART Teens (11 - 16 Jahre)
DESCRIPTION:17:00 - 18:00
CATEGORIES:Hermann Ivanka
END:VEVENT
BEGIN:VTIMEZONE
TZID:Europe/Vienna
X-LIC-LOCATION:Europe/Vienna
BEGIN:STANDARD
DTSTART:20231029T020000
TZOFFSETFROM:+0200
TZOFFSETTO:+0100
TZNAME:CET
END:STANDARD
END:VTIMEZONE
END:VCALENDAR