BEGIN:VCALENDAR
VERSION:2.0
PRODID:-//wp-events-plugin.com//7.2.2.3//EN
BEGIN:VEVENT
UID:11112@alte-werkstatt.org
DTSTART:20260527T153000Z
DTEND:20260527T164500Z
DTSTAMP:20260206T092352Z
URL:http://www.alte-werkstatt.org/veranstaltungen/taiji-quan-f-fortgeschri
 ttene-10-2026-03-04-2026-03-18-2026-04-01-2026-04-15-2026-04-29-2026-05-13
 -2026-05-27/
SUMMARY:Taiji Quan f Fortgeschrittene
DESCRIPTION:17:30 - 18:45\nTaiji ist Meditation in Bewegung
CATEGORIES:í Gerdinum Elisabeth
END:VEVENT
END:VCALENDAR