BEGIN:VCALENDAR
VERSION:2.0
PRODID:-//wp-events-plugin.com//7.2.2.3//EN
BEGIN:VEVENT
UID:2052@alte-werkstatt.org
DTSTART;TZID=Europe/Vienna:20161005T173000
DTEND;TZID=Europe/Vienna:20161005T184500
DTSTAMP:20160831T110254Z
URL:http://www.alte-werkstatt.org/veranstaltungen/taiji-chen-stil-3-2016-1
 0-05/
SUMMARY:Taiji Chen Stil
DESCRIPTION:17:30 - 18:45\nTaiji Quan ist Meditation in Bewegung.\nDer Kör
 per bewegt sich\, der Geist ruht sich aus\, höchstes Wohlbefinden bis ins
  hohe Alter.
CATEGORIES:í Gerdinum Elisabeth
END:VEVENT
BEGIN:VTIMEZONE
TZID:Europe/Vienna
X-LIC-LOCATION:Europe/Vienna
BEGIN:DAYLIGHT
DTSTART:20160327T030000
TZOFFSETFROM:+0100
TZOFFSETTO:+0200
TZNAME:CEST
END:DAYLIGHT
END:VTIMEZONE
END:VCALENDAR