BEGIN:VCALENDAR
VERSION:2.0
PRODID:-//wp-events-plugin.com//7.2.2.3//EN
BEGIN:VEVENT
UID:1878@alte-werkstatt.org
DTSTART;TZID=Europe/Vienna:20161109T093000
DTEND;TZID=Europe/Vienna:20161109T113000
DTSTAMP:20160829T112101Z
URL:http://www.alte-werkstatt.org/veranstaltungen/still-und-saeuglingsgrup
 pe-3-2016-11-09/
SUMMARY:Still- und Säuglingsgruppe
DESCRIPTION:09:30 - 11:30\nHerzlich willkommen\, als Mutter und Vater mit i
 hrem Kind!
CATEGORIES:Pöhl Evelyn Saphira,Wünsche Sabine
END:VEVENT
BEGIN:VTIMEZONE
TZID:Europe/Vienna
X-LIC-LOCATION:Europe/Vienna
BEGIN:STANDARD
DTSTART:20161030T020000
TZOFFSETFROM:+0200
TZOFFSETTO:+0100
TZNAME:CET
END:STANDARD
END:VTIMEZONE
END:VCALENDAR