BEGIN:VCALENDAR
VERSION:2.0
PRODID:-//wp-events-plugin.com//7.2.2.3//EN
BEGIN:VEVENT
UID:1874@alte-werkstatt.org
DTSTART;TZID=Europe/Vienna:20160914T093000
DTEND;TZID=Europe/Vienna:20160914T113000
DTSTAMP:20160829T112101Z
URL:http://www.alte-werkstatt.org/veranstaltungen/still-und-saeuglingsgrup
 pe-3-2016-09-14/
SUMMARY:Still- und Säuglingsgruppe
DESCRIPTION:09:30 - 11:30\nHerzlich willkommen\, als Mutter und Vater mit i
 hrem Kind!
CATEGORIES:Pöhl Evelyn Saphira,Wünsche Sabine
END:VEVENT
BEGIN:VTIMEZONE
TZID:Europe/Vienna
X-LIC-LOCATION:Europe/Vienna
BEGIN:DAYLIGHT
DTSTART:20160327T030000
TZOFFSETFROM:+0100
TZOFFSETTO:+0200
TZNAME:CEST
END:DAYLIGHT
END:VTIMEZONE
END:VCALENDAR