BEGIN:VCALENDAR
VERSION:2.0
PRODID:-//wp-events-plugin.com//7.2.2.3//EN
BEGIN:VEVENT
UID:1961@alte-werkstatt.org
DTSTART;TZID=Europe/Vienna:20160912T190000
DTEND;TZID=Europe/Vienna:20160912T203000
DTSTAMP:20160829T120330Z
URL:http://www.alte-werkstatt.org/veranstaltungen/spielraum-elternzeit/
SUMMARY:SpielRaum - Elternzeit
DESCRIPTION:19:00 - 20:30
CATEGORIES:Pöhl Evelyn Saphira
END:VEVENT
BEGIN:VTIMEZONE
TZID:Europe/Vienna
X-LIC-LOCATION:Europe/Vienna
BEGIN:DAYLIGHT
DTSTART:20160327T030000
TZOFFSETFROM:+0100
TZOFFSETTO:+0200
TZNAME:CEST
END:DAYLIGHT
END:VTIMEZONE
END:VCALENDAR