BEGIN:VCALENDAR
VERSION:2.0
PRODID:-//wp-events-plugin.com//7.2.2.3//EN
BEGIN:VEVENT
UID:10380@alte-werkstatt.org
DTSTART;TZID=Europe/Vienna:20260518T110000
DTEND;TZID=Europe/Vienna:20260518T123000
DTSTAMP:20250630T083506Z
URL:http://www.alte-werkstatt.org/veranstaltungen/spielraum-b-34-2026-05-1
 8/
SUMMARY:SpielRaum B
DESCRIPTION:11:00 - 12:30\nGruppe b\, "Älteren"
CATEGORIES:Pöhl Evelyn Saphira
END:VEVENT
BEGIN:VTIMEZONE
TZID:Europe/Vienna
X-LIC-LOCATION:Europe/Vienna
BEGIN:DAYLIGHT
DTSTART:20260329T030000
TZOFFSETFROM:+0100
TZOFFSETTO:+0200
TZNAME:CEST
END:DAYLIGHT
END:VTIMEZONE
END:VCALENDAR