BEGIN:VCALENDAR
VERSION:2.0
PRODID:-//wp-events-plugin.com//7.2.2.3//EN
BEGIN:VEVENT
UID:10366@alte-werkstatt.org
DTSTART;TZID=Europe/Vienna:20260323T110000
DTEND;TZID=Europe/Vienna:20260323T123000
DTSTAMP:20250630T083258Z
URL:http://www.alte-werkstatt.org/veranstaltungen/spielraum-b-33-2026-03-2
 3/
SUMMARY:SpielRaum B
DESCRIPTION:11:00 - 12:30\nGruppe b\, "Älteren"
CATEGORIES:Pöhl Evelyn Saphira
END:VEVENT
BEGIN:VTIMEZONE
TZID:Europe/Vienna
X-LIC-LOCATION:Europe/Vienna
BEGIN:STANDARD
DTSTART:20251026T020000
TZOFFSETFROM:+0200
TZOFFSETTO:+0100
TZNAME:CET
END:STANDARD
END:VTIMEZONE
END:VCALENDAR