BEGIN:VCALENDAR
VERSION:2.0
PRODID:-//wp-events-plugin.com//7.2.2.3//EN
BEGIN:VEVENT
UID:8238@alte-werkstatt.org
DTSTART;TZID=Europe/Vienna:20240409T103000
DTEND;TZID=Europe/Vienna:20240409T114500
DTSTAMP:20240124T150053Z
URL:http://www.alte-werkstatt.org/veranstaltungen/spielraum-b-24-2024-04-0
 9/
SUMMARY:SpielRaum B
DESCRIPTION:10:30 - 11:45\nGruppe b\, "Älteren"
CATEGORIES:Pöhl Evelyn Saphira
END:VEVENT
BEGIN:VTIMEZONE
TZID:Europe/Vienna
X-LIC-LOCATION:Europe/Vienna
BEGIN:DAYLIGHT
DTSTART:20240331T030000
TZOFFSETFROM:+0100
TZOFFSETTO:+0200
TZNAME:CEST
END:DAYLIGHT
END:VTIMEZONE
END:VCALENDAR