BEGIN:VCALENDAR
VERSION:2.0
PRODID:-//wp-events-plugin.com//7.2.2.3//EN
BEGIN:VEVENT
UID:8221@alte-werkstatt.org
DTSTART;TZID=Europe/Vienna:20240319T103000
DTEND;TZID=Europe/Vienna:20240319T114500
DTSTAMP:20240124T145953Z
URL:http://www.alte-werkstatt.org/veranstaltungen/spielraum-b-23-2024-03-1
 9/
SUMMARY:SpielRaum B
DESCRIPTION:10:30 - 11:45\nGruppe b\, "Älteren"
CATEGORIES:Pöhl Evelyn Saphira
END:VEVENT
BEGIN:VTIMEZONE
TZID:Europe/Vienna
X-LIC-LOCATION:Europe/Vienna
BEGIN:STANDARD
DTSTART:20231029T020000
TZOFFSETFROM:+0200
TZOFFSETTO:+0100
TZNAME:CET
END:STANDARD
END:VTIMEZONE
END:VCALENDAR