BEGIN:VCALENDAR
VERSION:2.0
PRODID:-//wp-events-plugin.com//7.2.2.3//EN
BEGIN:VEVENT
UID:8197@alte-werkstatt.org
DTSTART;TZID=Europe/Vienna:20231219T104500
DTEND;TZID=Europe/Vienna:20231219T120000
DTSTAMP:20230626T103217Z
URL:http://www.alte-werkstatt.org/veranstaltungen/spielraum-b-21-2023-12-1
 9/
SUMMARY:SpielRaum B
DESCRIPTION:10:45 - 12:00\nGruppe b\, "Älteren"
CATEGORIES:Pöhl Evelyn Saphira
END:VEVENT
BEGIN:VTIMEZONE
TZID:Europe/Vienna
X-LIC-LOCATION:Europe/Vienna
BEGIN:STANDARD
DTSTART:20231029T020000
TZOFFSETFROM:+0200
TZOFFSETTO:+0100
TZNAME:CET
END:STANDARD
END:VTIMEZONE
END:VCALENDAR