BEGIN:VCALENDAR
VERSION:2.0
PRODID:-//wp-events-plugin.com//7.2.2.3//EN
BEGIN:VEVENT
UID:8185@alte-werkstatt.org
DTSTART;TZID=Europe/Vienna:20230926T104500
DTEND;TZID=Europe/Vienna:20230926T120000
DTSTAMP:20230626T103217Z
URL:http://www.alte-werkstatt.org/veranstaltungen/spielraum-b-21-2023-09-2
 6/
SUMMARY:SpielRaum B
DESCRIPTION:10:45 - 12:00\nGruppe b\, "Älteren"
CATEGORIES:Pöhl Evelyn Saphira
END:VEVENT
BEGIN:VTIMEZONE
TZID:Europe/Vienna
X-LIC-LOCATION:Europe/Vienna
BEGIN:DAYLIGHT
DTSTART:20230326T030000
TZOFFSETFROM:+0100
TZOFFSETTO:+0200
TZNAME:CEST
END:DAYLIGHT
END:VTIMEZONE
END:VCALENDAR