BEGIN:VCALENDAR
VERSION:2.0
PRODID:-//wp-events-plugin.com//7.2.2.3//EN
BEGIN:VEVENT
UID:10382@alte-werkstatt.org
DTSTART;TZID=Europe/Vienna:20260601T093000
DTEND;TZID=Europe/Vienna:20260601T104500
DTSTAMP:20250630T083621Z
URL:http://www.alte-werkstatt.org/veranstaltungen/spielraum-a-33-2026-06-0
 1/
SUMMARY:SpielRaum A
DESCRIPTION:09:30 - 10:45\nGruppe a "Jüngeren"
CATEGORIES:Pöhl Evelyn Saphira
END:VEVENT
BEGIN:VTIMEZONE
TZID:Europe/Vienna
X-LIC-LOCATION:Europe/Vienna
BEGIN:DAYLIGHT
DTSTART:20260329T030000
TZOFFSETFROM:+0100
TZOFFSETTO:+0200
TZNAME:CEST
END:DAYLIGHT
END:VTIMEZONE
END:VCALENDAR