BEGIN:VCALENDAR
VERSION:2.0
PRODID:-//wp-events-plugin.com//7.2.2.3//EN
BEGIN:VEVENT
UID:8234@alte-werkstatt.org
DTSTART;TZID=Europe/Vienna:20240618T090000
DTEND;TZID=Europe/Vienna:20240618T103000
DTSTAMP:20240124T150023Z
URL:http://www.alte-werkstatt.org/veranstaltungen/spielraum-a-23-2024-06-1
 8/
SUMMARY:SpielRaum A
DESCRIPTION:09:00 - 10:15\nGruppe a "Jüngeren"
CATEGORIES:Pöhl Evelyn Saphira
END:VEVENT
BEGIN:VTIMEZONE
TZID:Europe/Vienna
X-LIC-LOCATION:Europe/Vienna
BEGIN:DAYLIGHT
DTSTART:20240331T030000
TZOFFSETFROM:+0100
TZOFFSETTO:+0200
TZNAME:CEST
END:DAYLIGHT
END:VTIMEZONE
END:VCALENDAR