BEGIN:VCALENDAR
VERSION:2.0
PRODID:-//wp-events-plugin.com//7.2.2.3//EN
BEGIN:VEVENT
UID:8214@alte-werkstatt.org
DTSTART;TZID=Europe/Vienna:20240319T090000
DTEND;TZID=Europe/Vienna:20240319T101500
DTSTAMP:20240124T145919Z
URL:http://www.alte-werkstatt.org/veranstaltungen/spielraum-a-22-2024-03-1
 9/
SUMMARY:SpielRaum A
DESCRIPTION:09:00 - 10:15\nGruppe a "Jüngeren"
CATEGORIES:Pöhl Evelyn Saphira
END:VEVENT
BEGIN:VTIMEZONE
TZID:Europe/Vienna
X-LIC-LOCATION:Europe/Vienna
BEGIN:STANDARD
DTSTART:20231029T020000
TZOFFSETFROM:+0200
TZOFFSETTO:+0100
TZNAME:CET
END:STANDARD
END:VTIMEZONE
END:VCALENDAR