BEGIN:VCALENDAR
VERSION:2.0
PRODID:-//wp-events-plugin.com//7.2.2.3//EN
BEGIN:VEVENT
UID:8183@alte-werkstatt.org
DTSTART;TZID=Europe/Vienna:20231219T091500
DTEND;TZID=Europe/Vienna:20231219T103000
DTSTAMP:20230626T103035Z
URL:http://www.alte-werkstatt.org/veranstaltungen/spielraum-a-20-2023-12-1
 9/
SUMMARY:SpielRaum A
DESCRIPTION:09:15 - 10:30\nGruppe a "Jüngeren"
CATEGORIES:Pöhl Evelyn Saphira
END:VEVENT
BEGIN:VTIMEZONE
TZID:Europe/Vienna
X-LIC-LOCATION:Europe/Vienna
BEGIN:STANDARD
DTSTART:20231029T020000
TZOFFSETFROM:+0200
TZOFFSETTO:+0100
TZNAME:CET
END:STANDARD
END:VTIMEZONE
END:VCALENDAR