BEGIN:VCALENDAR
VERSION:2.0
PRODID:-//wp-events-plugin.com//7.2.2.3//EN
BEGIN:VEVENT
UID:8171@alte-werkstatt.org
DTSTART;TZID=Europe/Vienna:20230926T091500
DTEND;TZID=Europe/Vienna:20230926T103000
DTSTAMP:20230626T103035Z
URL:http://www.alte-werkstatt.org/veranstaltungen/spielraum-a-20-2023-09-2
 6/
SUMMARY:SpielRaum A
DESCRIPTION:09:15 - 10:30\nGruppe a "Jüngeren"
CATEGORIES:Pöhl Evelyn Saphira
END:VEVENT
BEGIN:VTIMEZONE
TZID:Europe/Vienna
X-LIC-LOCATION:Europe/Vienna
BEGIN:DAYLIGHT
DTSTART:20230326T030000
TZOFFSETFROM:+0100
TZOFFSETTO:+0200
TZNAME:CEST
END:DAYLIGHT
END:VTIMEZONE
END:VCALENDAR